BEGIN:VCALENDAR
VERSION:2.0
PRODID:-//Plone.org//NONSGML plone.app.event//EN
X-WR-TIMEZONE:Europe/Madrid
BEGIN:VEVENT
SUMMARY:22nd School on Interactions between Dynamical Systems and Partial 
 Differential Equations (JISD 2026)
DTSTART;VALUE=DATE:20260629
DTEND;VALUE=DATE:20260704
DTSTAMP:20260424T113208Z
UID:820ccfdaa0b44d948ed43fc06d1e8487@dynamicalsystems.upc.edu
ATTENDEE;CN="Pau Martín, organising committee";ROLE=REQ-PARTICIPANT:Pau M
 artín, organising committee
ATTENDEE;CN="Tere M. Seara, organising committee";ROLE=REQ-PARTICIPANT:Ter
 e M. Seara, organising committee
CONTACT:https://www.crm.cat/jisd2026/
CREATED:20260216T064610Z
LAST-MODIFIED:20260216T064620Z
LOCATION:CRM/Bellaterra\, Barcelona
URL:https://dynamicalsystems.upc.edu/en/meetings/meetings-workshops-and-sc
 hools/2026/22nd-school-on-interactions-between-dynamical-systems-and-parti
 al-differential-equations-jisd-2026
END:VEVENT
END:VCALENDAR
